3.2500000000
0.0000000000
0.0000000000
-3.2500000000
991352.3750000000
606419.1250000000
