3.2500000000
0.0000000000
0.0000000000
-3.2500000000
990725.1250000000
574673.1250000000
