3.2500000000
0.0000000000
0.0000000000
-3.2500000000
1116721.1250000000
570916.1250000000
