3.2000000000
0.0000000000
0.0000000000
-3.2000000000
1211103.3500000001
536521.8500000000
