3.2500000000
0.0000000000
0.0000000000
-3.2500000000
1030609.1250000000
669001.1250000000
