3.2500000000
0.0000000000
0.0000000000
-3.2500000000
1062147.1250000000
667941.6250000000
