3.2500000000
0.0000000000
0.0000000000
-3.2500000000
1092830.3750000000
635188.1250000000
