3.2500000000
0.0000000000
0.0000000000
-3.2500000000
1028542.1250000000
605450.6250000000
