3.2500000000
0.0000000000
0.0000000000
-3.2500000000
1066433.8750000000
636003.8750000000
