3.2500000000
0.0000000000
0.0000000000
-3.2500000000
1065523.8750000000
604261.1250000000
