3.2500000000
0.0000000000
0.0000000000
-3.2500000000
1031792.1250000000
541679.1250000000
