3.2500000000
0.0000000000
0.0000000000
-3.2500000000
1071741.1250000000
635786.1250000000
