3.2500000000
0.0000000000
0.0000000000
-3.2500000000
1132867.1250000000
570513.1250000000
