3.2500000000
0.0000000000
0.0000000000
-3.2500000000
1015369.8750000000
669439.8750000000
