3.2500000000
0.0000000000
0.0000000000
-3.2500000000
1012568.3750000000
606503.6250000000
