3.2500000000
0.0000000000
0.0000000000
-3.2500000000
1043264.6250000000
572957.1250000000
