3.2500000000
0.0000000000
0.0000000000
-3.2500000000
1169081.8750000000
537587.3750000000
