3.2500000000
0.0000000000
0.0000000000
-3.2500000000
1015496.6250000000
674815.3750000000
