3.2500000000
0.0000000000
0.0000000000
-3.2500000000
983103.8750000000
644583.8750000000
