3.2500000000
0.0000000000
0.0000000000
-3.2500000000
1077158.8750000000
640921.1250000000
