3.2500000000
0.0000000000
0.0000000000
-3.2500000000
1012649.6250000000
611248.6250000000
