3.2500000000
0.0000000000
0.0000000000
-3.2500000000
1138398.6250000000
575735.8750000000
