3.2500000000
0.0000000000
0.0000000000
-3.2500000000
975141.3750000000
580523.1250000000
