3.2500000000
0.0000000000
0.0000000000
-3.2500000000
1038136.1250000000
578433.3750000000
