3.2500000000
0.0000000000
0.0000000000
-3.2500000000
1099977.1250000000
544964.8750000000
