3.2500000000
0.0000000000
0.0000000000
-3.2500000000
1003773.8750000000
643043.3750000000
