3.2500000000
0.0000000000
0.0000000000
-3.2500000000
1061337.8750000000
641434.6250000000
