3.2500000000
0.0000000000
0.0000000000
-3.2500000000
1092099.1250000000
608778.6250000000
