3.2500000000
0.0000000000
0.0000000000
-3.2500000000
1027693.8750000000
578894.8750000000
