3.2500000000
0.0000000000
0.0000000000
-3.2500000000
1122343.6250000000
576171.3750000000
