3.2500000000
0.0000000000
0.0000000000
-3.2500000000
1090795.8750000000
576990.3750000000
