3.2500000000
0.0000000000
0.0000000000
-3.2500000000
1121492.1250000000
544350.6250000000
