3.2500000000
0.0000000000
0.0000000000
-3.2500000000
1058253.6250000000
546112.1250000000
