3.2500000000
0.0000000000
0.0000000000
-3.2500000000
1057038.1250000000
673398.3750000000
