3.2500000000
0.0000000000
0.0000000000
-3.2500000000
1023433.1250000000
610900.8750000000
