3.2500000000
0.0000000000
0.0000000000
-3.2500000000
1055055.6250000000
609831.6250000000
