3.2500000000
0.0000000000
0.0000000000
-3.2500000000
1086749.6250000000
608908.6250000000
