3.2500000000
0.0000000000
0.0000000000
-3.2500000000
1085547.1250000000
577162.6250000000
