3.2500000000
0.0000000000
0.0000000000
-3.2500000000
1017186.6250000000
579369.3750000000
