3.2500000000
0.0000000000
0.0000000000
-3.2500000000
1110575.3750000000
544600.8750000000
