3.2500000000
0.0000000000
0.0000000000
-3.2500000000
1019533.1250000000
648077.6250000000
