3.2500000000
0.0000000000
0.0000000000
-3.2500000000
1018473.6250000000
616295.8750000000
