3.2500000000
0.0000000000
0.0000000000
-3.2500000000
1081643.8750000000
614329.6250000000
