3.2500000000
0.0000000000
0.0000000000
-3.2500000000
1110620.8750000000
549823.6250000000
