3.2500000000
0.0000000000
0.0000000000
-3.2500000000
1023608.6250000000
616175.6250000000
