3.2500000000
0.0000000000
0.0000000000
-3.2500000000
1086908.8750000000
614202.8750000000
