3.2500000000
0.0000000000
0.0000000000
-3.2500000000
1054291.8750000000
583474.1250000000
