3.2500000000
0.0000000000
0.0000000000
-3.2500000000
1053342.8750000000
551575.3750000000
