3.2500000000
0.0000000000
0.0000000000
-3.2500000000
967367.3750000000
650177.1250000000
