3.2000000000
0.0000000000
0.0000000000
-3.2000000000
996997.6000000000
616539.0500000001
